Workbook

Sheet 1. Afwegingskader
D1: Afwegingskader
C3: IMPACT OP ORGANISATIE (WAARDE/RESULTAAT) | D3: 5 Cruciaal: voortbestaan of kernstrategie van organisatie . | E3: 6 Could Do | F3: 7 Should Do | G3: 8 Should Do | H3: 9 Must Do | I3: 10 Must Do
D4: 4 Hoog: significante kostenbesparing of verbetering voor organisatie of meerdere afdelingen | E4: 5 Could Do | F4: 6 Could Do | G4: 7 Should Do | H4: 8 Should Do | I4: 9 Must Do
D5: 3 Medium: Merkbare verbetering voor volledige organisatie | E5: 4 Could Do | F5: 5 Could Do | G5: 6 Could Do | H5: 7 Should Do | I5: 8 Should Do
D6: 2 Laag: Merkbare verbetering voor specifieke groep of afdeling | E6: 3 Won't Do (Now) | F6: 4 Could Do | G6: 5 Could Do | H6: 6 Could Do | I6: 7 Should Do
D7: 1 Minimaal: Beperkte verbetering, 'nice tot have' | E7: 2 Won't Do (Now) | F7: 3 Won't Do (Now) | G7: 4 Could Do | H7: 5 Could Do | I7: 6 Could Do
E8: 1 Minimaal: Geen tijdsdruk of deadline, kan onbeperkt uitgesteld worden , | F8: 2 Laag: Beperkte tijdsdruk . | G8: 3 Medium: Duidelijke deadline, maar deze kan nog gehaald worden als project niet onmiddellijk wordt opgestart | H8: 4 Hoog: Duidelijke deadline en project moet nu opgestart worden om deze te kunnen halen | I8: 5 Cruciaal: Uitvoering onmiddellijk noodzakelijk (bijvoorbeeld door wijziging wet)
E9: URGENTIE (TIJD)

Sheet 2. Scoring projecten
C1: Scoor je verschillende projecten
B3: Projectnaam | C3: Impact (1-5) | D3: Urgentie (1-5) | E3: Score | F3: MOSCOW
B4: App Development | C4: 4 | D4: 5 | E4: =Tabel16[[#This Row],[Urgentie (1-5)]]+Tabel16[[#This Row],[Impact (1-5)]] -> 9 | F4: {=_xlfn.SWITCH(E4, 10,"Must Do", 9,"Must Do", 8,"Should Do", 7,"Should Do", 6,"Could Do", 5,"Could Do", 4,"Could Do", "Won't Do Now")} -> Must Do
B5: Digital Transformation 2.0 | C5: 4 | D5: 2 | E5: =Tabel16[[#This Row],[Urgentie (1-5)]]+Tabel16[[#This Row],[Impact (1-5)]] -> 6 | F5: {=_xlfn.SWITCH(E5, 10,"Must Do", 9,"Must Do", 8,"Should Do", 7,"Should Do", 6,"Could Do", 5,"Could Do", 4,"Could Do", "Won't Do Now")} -> Could Do
B6: ERP Migratie | C6: 3 | D6: 5 | E6: =Tabel16[[#This Row],[Urgentie (1-5)]]+Tabel16[[#This Row],[Impact (1-5)]] -> 8 | F6: {=_xlfn.SWITCH(E6, 10,"Must Do", 9,"Must Do", 8,"Should Do", 7,"Should Do", 6,"Could Do", 5,"Could Do", 4,"Could Do", "Won't Do Now")} -> Should Do
B7: Management dashboard implementatie | C7: 3 | D7: 4 | E7: =Tabel16[[#This Row],[Urgentie (1-5)]]+Tabel16[[#This Row],[Impact (1-5)]] -> 7 | F7: {=_xlfn.SWITCH(E7, 10,"Must Do", 9,"Must Do", 8,"Should Do", 7,"Should Do", 6,"Could Do", 5,"Could Do", 4,"Could Do", "Won't Do Now")} -> Should Do
B8: NIS2 conformiteit | C8: 5 | D8: 5 | E8: =Tabel16[[#This Row],[Urgentie (1-5)]]+Tabel16[[#This Row],[Impact (1-5)]] -> 10 | F8: {=_xlfn.SWITCH(E8, 10,"Must Do", 9,"Must Do", 8,"Should Do", 7,"Should Do", 6,"Could Do", 5,"Could Do", 4,"Could Do", "Won't Do Now")} -> Must Do
B9: Procesoptimalisatie aankoop | C9: 3 | D9: 3 | E9: =Tabel16[[#This Row],[Urgentie (1-5)]]+Tabel16[[#This Row],[Impact (1-5)]] -> 6 | F9: {=_xlfn.SWITCH(E9, 10,"Must Do", 9,"Must Do", 8,"Should Do", 7,"Should Do", 6,"Could Do", 5,"Could Do", 4,"Could Do", "Won't Do Now")} -> Could Do
B10: Rebranding | C10: 2 | D10: 1 | E10: =Tabel16[[#This Row],[Urgentie (1-5)]]+Tabel16[[#This Row],[Impact (1-5)]] -> 3 | F10: {=_xlfn.SWITCH(E10, 10,"Must Do", 9,"Must Do", 8,"Should Do", 7,"Should Do", 6,"Could Do", 5,"Could Do", 4,"Could Do", "Won't Do Now")} -> Won't Do Now

Sheet 3. Dynamische matrix
D1: Dynamisch afwegingskader
C3: IMPACT OP ORGANISATIE (WAARDE/RESULTAAT) | D3: 5 Cruciaal: voortbestaan of kernstrategie van organisatie . | E3: =_xlfn.TEXTJOIN(", ", TRUE, _xlfn._xlws.FILTER('2. Scoring projecten'!$B$4:$B$200, ('2. Scoring projecten'!$C$4:$C$200=5)*('2. Scoring projecten'!$D$4:$D$200=1), "")) | F3: =_xlfn.TEXTJOIN(", ", TRUE, _xlfn._xlws.FILTER('2. Scoring projecten'!$B$4:$B$200, ('2. Scoring projecten'!$C$4:$C$200=5)*('2. Scoring projecten'!$D$4:$D$200=2), "")) | G3: =_xlfn.TEXTJOIN(", ", TRUE, _xlfn._xlws.FILTER('2. Scoring projecten'!$B$4:$B$200, ('2. Scoring projecten'!$C$4:$C$200=5)*('2. Scoring projecten'!$D$4:$D$200=3), "")) | H3: =_xlfn.TEXTJOIN(", ", TRUE, _xlfn._xlws.FILTER('2. Scoring projecten'!$B$4:$B$200, ('2. Scoring projecten'!$C$4:$C$200=5)*('2. Scoring projecten'!$D$4:$D$200=4), "")) | I3: =_xlfn.TEXTJOIN(", ", TRUE, _xlfn._xlws.FILTER('2. Scoring projecten'!$B$4:$B$200, ('2. Scoring projecten'!$C$4:$C$200=5)*('2. Scoring projecten'!$D$4:$D$200=5), "")) -> NIS2 conformiteit
D4: 4 Hoog: significante kostenbesparing of verbetering voor organisatie of meerdere afdelingen | E4: =_xlfn.TEXTJOIN(", ", TRUE, _xlfn._xlws.FILTER('2. Scoring projecten'!$B$4:$B$200, ('2. Scoring projecten'!$C$4:$C$200=4)*('2. Scoring projecten'!$D$4:$D$200=1), "")) | F4: =_xlfn.TEXTJOIN(", ", TRUE, _xlfn._xlws.FILTER('2. Scoring projecten'!$B$4:$B$200, ('2. Scoring projecten'!$C$4:$C$200=4)*('2. Scoring projecten'!$D$4:$D$200=2), "")) -> Digital Transformation 2.0 | G4: =_xlfn.TEXTJOIN(", ", TRUE, _xlfn._xlws.FILTER('2. Scoring projecten'!$B$4:$B$200, ('2. Scoring projecten'!$C$4:$C$200=4)*('2. Scoring projecten'!$D$4:$D$200=3), "")) | H4: =_xlfn.TEXTJOIN(", ", TRUE, _xlfn._xlws.FILTER('2. Scoring projecten'!$B$4:$B$200, ('2. Scoring projecten'!$C$4:$C$200=4)*('2. Scoring projecten'!$D$4:$D$200=4), "")) | I4: =_xlfn.TEXTJOIN(", ", TRUE, _xlfn._xlws.FILTER('2. Scoring projecten'!$B$4:$B$200, ('2. Scoring projecten'!$C$4:$C$200=4)*('2. Scoring projecten'!$D$4:$D$200=5), "")) -> App Development
D5: 3 Medium: Merkbare verbetering voor volledige organisatie | E5: =_xlfn.TEXTJOIN(", ", TRUE, _xlfn._xlws.FILTER('2. Scoring projecten'!$B$4:$B$200, ('2. Scoring projecten'!$C$4:$C$200=3)*('2. Scoring projecten'!$D$4:$D$200=1), "")) | F5: =_xlfn.TEXTJOIN(", ", TRUE, _xlfn._xlws.FILTER('2. Scoring projecten'!$B$4:$B$200, ('2. Scoring projecten'!$C$4:$C$200=3)*('2. Scoring projecten'!$D$4:$D$200=2), "")) | G5: =_xlfn.TEXTJOIN(", ", TRUE, _xlfn._xlws.FILTER('2. Scoring projecten'!$B$4:$B$200, ('2. Scoring projecten'!$C$4:$C$200=3)*('2. Scoring projecten'!$D$4:$D$200=3), "")) -> Procesoptimalisatie aankoop | H5: =_xlfn.TEXTJOIN(", ", TRUE, _xlfn._xlws.FILTER('2. Scoring projecten'!$B$4:$B$200, ('2. Scoring projecten'!$C$4:$C$200=3)*('2. Scoring projecten'!$D$4:$D$200=4), "")) -> Management dashboard implementatie | I5: =_xlfn.TEXTJOIN(", ", TRUE, _xlfn._xlws.FILTER('2. Scoring projecten'!$B$4:$B$200, ('2. Scoring projecten'!$C$4:$C$200=3)*('2. Scoring projecten'!$D$4:$D$200=5), "")) -> ERP Migratie
D6: 2 Laag: Merkbare verbetering voor specifieke groep of afdeling | E6: =_xlfn.TEXTJOIN(", ", TRUE, _xlfn._xlws.FILTER('2. Scoring projecten'!$B$4:$B$200, ('2. Scoring projecten'!$C$4:$C$200=2)*('2. Scoring projecten'!$D$4:$D$200=1), "")) -> Rebranding | F6: =_xlfn.TEXTJOIN(", ", TRUE, _xlfn._xlws.FILTER('2. Scoring projecten'!$B$4:$B$200, ('2. Scoring projecten'!$C$4:$C$200=2)*('2. Scoring projecten'!$D$4:$D$200=2), "")) | G6: =_xlfn.TEXTJOIN(", ", TRUE, _xlfn._xlws.FILTER('2. Scoring projecten'!$B$4:$B$200, ('2. Scoring projecten'!$C$4:$C$200=2)*('2. Scoring projecten'!$D$4:$D$200=3), "")) | H6: =_xlfn.TEXTJOIN(", ", TRUE, _xlfn._xlws.FILTER('2. Scoring projecten'!$B$4:$B$200, ('2. Scoring projecten'!$C$4:$C$200=2)*('2. Scoring projecten'!$D$4:$D$200=4), "")) | I6: =_xlfn.TEXTJOIN(", ", TRUE, _xlfn._xlws.FILTER('2. Scoring projecten'!$B$4:$B$200, ('2. Scoring projecten'!$C$4:$C$200=2)*('2. Scoring projecten'!$D$4:$D$200=5), ""))
D7: 1 Minimaal: Beperkte verbetering, 'nice tot have' | E7: =_xlfn.TEXTJOIN(", ", TRUE, _xlfn._xlws.FILTER('2. Scoring projecten'!$B$4:$B$200, ('2. Scoring projecten'!$C$4:$C$200=1)*('2. Scoring projecten'!$D$4:$D$200=1), "")) | F7: =_xlfn.TEXTJOIN(", ", TRUE, _xlfn._xlws.FILTER('2. Scoring projecten'!$B$4:$B$200, ('2. Scoring projecten'!$C$4:$C$200=1)*('2. Scoring projecten'!$D$4:$D$200=2), "")) | G7: =_xlfn.TEXTJOIN(", ", TRUE, _xlfn._xlws.FILTER('2. Scoring projecten'!$B$4:$B$200, ('2. Scoring projecten'!$C$4:$C$200=1)*('2. Scoring projecten'!$D$4:$D$200=3), "")) | H7: =_xlfn.TEXTJOIN(", ", TRUE, _xlfn._xlws.FILTER('2. Scoring projecten'!$B$4:$B$200, ('2. Scoring projecten'!$C$4:$C$200=1)*('2. Scoring projecten'!$D$4:$D$200=4), "")) | I7: =_xlfn.TEXTJOIN(", ", TRUE, _xlfn._xlws.FILTER('2. Scoring projecten'!$B$4:$B$200, ('2. Scoring projecten'!$C$4:$C$200=1)*('2. Scoring projecten'!$D$4:$D$200=5), ""))
E8: 1 Minimaal: Geen tijdsdruk of deadline, kan onbeperkt uitgesteld worden , | F8: 2 Laag: Beperkte tijdsdruk . | G8: 3 Medium: Duidelijke deadline, maar deze kan nog gehaald worden als project niet onmiddellijk wordt opgestart | H8: 4 Hoog: Duidelijke deadline en project moet nu opgestart worden om deze te kunnen halen | I8: 5 Cruciaal: Uitvoering onmiddellijk noodzakelijk (bijvoorbeeld door wijziging wet)
E9: URGENTIE (TIJD)
